BEGIN:VCALENDAR
VERSION:2.0
PRODID:-//Eventin//Event Calendar//EN
CALSCALE:GREGORIAN
METHOD:PUBLISH
BEGIN:VEVENT
UID:4183648b128fca51cc32cb5bc0adaa15@bfsug.ch
SUMMARY:Generalversammlung ZFVG 4. Juni 2024
DESCRIPTION:Der Zürcher Fürsorgeverein für Gehörlose (ZFVG) und die BFS
 UG Zürich und Schaffhausen laden ein! Erhalten Sie an unserer GV am Dienst
 ag\, 4. Juni 2024 einen persönlichen Einblick in das Vereinsleben und in d
 ie Beratungsstelle.\n\n\n\nInformationen in Gebärdensprache\n\n\n\nVortrag
  im Rahmen der Aktionstage Behindertenrechte 2024\n\n\n\n«Wir haben auch R
 echte!» – Die Emanzipation der Gehörlosen in der Schweiz\n\n\n\nProgram
 m Generalversammlung ZFVG 2024:\n\n\n\n\n18.15 Uhr Türöffnung\n\n\n\n18.3
 0 Uhr Generalversammlung\n\n\n\n19.30 Uhr Vortrag: Vera Blaser erzählt üb
 er den Kampf der Gehörlosen um Anerkennung\, Identität und Selbstbestimmu
 ng einer oft übersehenen Minderheit.\n\n\n\nAnschliessend Apéro\n\n\n\n\n
 Ort:  forum 98/ Treff und Aula\, Oerlikonerstrasse 98\, 8057 Zürich\n\n\n\
 nGebärdensprachdolmetschende: Generalversammlung und Vortrag werden in Geb
 ärdensprache übersetzt. \n\n\n\nGeneralversammlung und Vortrag sind ohne 
 Anmeldung. Kommen Sie einfach vorbei! Sie können auch nur den Vortrag ab 1
 9.30 Uhr besuchen. \n\n\n\n\nUnverbindliche Anmeldung\n\n\n\n\nFür eine be
 ssere Planung des Caterings freuen wir uns trotzdem über Ihre unverbindlic
 he Anmeldung. \n\n\n\n\n\n\n\nDemonstration am Tag der Gehörlosen 1991 in 
 St. Gallen\, aus: SGB-Nachrichten\, Nr. 24\, 1. Dezember 1991\n\n\n\nWir fr
 euen uns auf Sie!
LOCATION:Online
DTSTAMP:20260420T170900Z
DTSTART:20240604T161500Z
DTEND:20260420T183000Z
END:VEVENT
END:VCALENDAR
